BEGIN:VCALENDAR
VERSION:2.0
PRODID:-//Discover Frome - ECPv4.6.26//NONSGML v1.0//EN
CALSCALE:GREGORIAN
METHOD:PUBLISH
X-WR-CALNAME:Discover Frome
X-ORIGINAL-URL:https://archive.discoverfrome.co.uk
X-WR-CALDESC:Events for Discover Frome
BEGIN:VEVENT
DTSTART;TZID=Europe/London:20230712T193000
DTEND;TZID=Europe/London:20230712T223000
DTSTAMP:20260419T135642
CREATED:20230525T175206Z
LAST-MODIFIED:20230525T175206Z
UID:61107-1689190200-1689201000@archive.discoverfrome.co.uk
SUMMARY:The Crazy Rhythm Club
DESCRIPTION:A rendevous of crazy nomadic musicians\, whose paths cross in a vibrant exchange of wild violins\, stomping guitars and fiery rhythms. \nThe Gypsy Jazz swing is infectious\, the music both irreverent and virtuosic. \nA musical time travel from the Hot Club of Paris\, inspired by the maestros Django and Grapelli. \n
URL:https://archive.discoverfrome.co.uk/event/the-crazy-rhythm-club/
LOCATION:French General Trading\, 2a Church Street\, Frome\, BA11 1PW\, United Kingdom
CATEGORIES:Discover Frome,Frome Festival,Music
ATTACH;FMTTYPE=image/jpeg:https://archive.discoverfrome.co.uk/wp-content/uploads/2023/05/woman-and-horses-illustration-e1685037102740.jpg
ORGANIZER;CN="Frome%20Festival":MAILTO:office@fromefestival.co.uk
END:VEVENT
END:VCALENDAR