BEGIN:VCALENDAR
VERSION:2.0
PRODID:-//Discover Frome - ECPv4.6.26//NONSGML v1.0//EN
CALSCALE:GREGORIAN
METHOD:PUBLISH
X-WR-CALNAME:Discover Frome
X-ORIGINAL-URL:https://archive.discoverfrome.co.uk
X-WR-CALDESC:Events for Discover Frome
BEGIN:VEVENT
DTSTART;TZID=Europe/London:20240710T193000
DTEND;TZID=Europe/London:20240710T220000
DTSTAMP:20260419T170256
CREATED:20240613T111717Z
LAST-MODIFIED:20240613T111717Z
UID:70369-1720639800-1720648800@archive.discoverfrome.co.uk
SUMMARY:THE FREE FOUR
DESCRIPTION:Polyrhythmic\, psychedelic trance grooves from four storied music innovators. Originally coming together in Robert Plant’s legendary Space Shifters band\, who wowed the Glastonbury Pyramid stage in 2014\, between them Dave Smith\, Justin Adams\, John Baggott and Billy Fuller have helped to create cutting edge music from the dark tones of Bristol’s Portishead and Beak via Fofoulah’s AfroFuturism to Rachid Taha and Tinariwen’s Desert Rock and Roll. \n
URL:https://archive.discoverfrome.co.uk/event/the-free-four/
LOCATION:Bar Lotte\, 6a Badcox\, Frome\, Somerset\, BA11 1DB\, United Kingdom
CATEGORIES:Discover Frome,Frome Festival,Live Band,Music
ATTACH;FMTTYPE=image/png:https://archive.discoverfrome.co.uk/wp-content/uploads/2024/06/The-Free-Four.png
ORGANIZER;CN="Frome%20Festival":MAILTO:office@fromefestival.co.uk
END:VEVENT
END:VCALENDAR