BEGIN:VCALENDAR
VERSION:2.0
PRODID:-//Discover Frome - ECPv4.6.26//NONSGML v1.0//EN
CALSCALE:GREGORIAN
METHOD:PUBLISH
X-WR-CALNAME:Discover Frome
X-ORIGINAL-URL:https://archive.discoverfrome.co.uk
X-WR-CALDESC:Events for Discover Frome
BEGIN:VEVENT
DTSTART;TZID=Europe/London:20240901T100000
DTEND;TZID=Europe/London:20240901T150000
DTSTAMP:20260419T145415
CREATED:20240827T141547Z
LAST-MODIFIED:20240827T141547Z
UID:71775-1725184800-1725202800@archive.discoverfrome.co.uk
SUMMARY:The Frome Independent
DESCRIPTION:Join us on Sunday 1st September for the next Frome Independent market. Delicious local food and drink from street food vendors and Somerset Farmers Market at the Boyle Cross\, gorgeous homewares\, jewellery\, skin care\, art\, ceramics\, seeds\, plants\, vintage finds and live music. \n
URL:https://archive.discoverfrome.co.uk/event/the-frome-independent-2/
LOCATION:Frome Town Centre
GEO:51.231623663092;-2.3206995621115
CATEGORIES:Children,Clothing & Textiles,Discover Frome,Family,Food & Drink,Live Band,Market,Music,Shopping,Sustainability
ATTACH;FMTTYPE=image/jpeg:https://archive.discoverfrome.co.uk/wp-content/uploads/2021/08/Frome-Independent-Market-poster.jpg
END:VEVENT
END:VCALENDAR