BEGIN:VCALENDAR
VERSION:2.0
PRODID:-//Discover Frome - ECPv4.6.26//NONSGML v1.0//EN
CALSCALE:GREGORIAN
METHOD:PUBLISH
X-WR-CALNAME:Discover Frome
X-ORIGINAL-URL:https://archive.discoverfrome.co.uk
X-WR-CALDESC:Events for Discover Frome
BEGIN:VEVENT
DTSTART;TZID=Europe/London:20240712T160000
DTEND;TZID=Europe/London:20240712T210000
DTSTAMP:20260420T062626
CREATED:20240613T133531Z
LAST-MODIFIED:20240613T133531Z
UID:70393-1720800000-1720818000@archive.discoverfrome.co.uk
SUMMARY:THE FROME INDEPENDENT SUMMER NIGHT MARKET
DESCRIPTION:New to this year’s Frome Festival\, The Frome Independent brings a capsule version of the award winning monthly market to the Market Yard. Browse dozens of stalls with the best designer makers and food producers in the south west\, enjoy delicious street food and drink with music and live performances. \n
URL:https://archive.discoverfrome.co.uk/event/the-frome-independent-summer-night-market/
LOCATION:Cattle Market Car Park\, Bridge Street Somerset Frome\, BA11 1BE
GEO:51.2323461;-2.3198961
X-APPLE-STRUCTURED-LOCATION;VALUE=URI;X-ADDRESS=Cattle Market Car Park Bridge Street Somerset Frome BA11 1BE;X-APPLE-RADIUS=500;X-TITLE=Bridge Street Somerset Frome:geo:-2.3198961,51.2323461
CATEGORIES:Discover Frome,Frome Festival,Market
ATTACH;FMTTYPE=image/jpeg:https://archive.discoverfrome.co.uk/wp-content/uploads/2024/06/AW-TFI-NightMarket-July21-333-e1711370319480-1000x720-1.jpg
END:VEVENT
END:VCALENDAR