BEGIN:VCALENDAR
VERSION:2.0
PRODID:-//Discover Frome - ECPv4.6.26//NONSGML v1.0//EN
CALSCALE:GREGORIAN
METHOD:PUBLISH
X-WR-CALNAME:Discover Frome
X-ORIGINAL-URL:https://archive.discoverfrome.co.uk
X-WR-CALDESC:Events for Discover Frome
BEGIN:VEVENT
DTSTART;TZID=Europe/London:20240710T143000
DTEND;TZID=Europe/London:20240710T153000
DTSTAMP:20260420T062719
CREATED:20240612T143332Z
LAST-MODIFIED:20240612T143332Z
UID:70248-1720621800-1720625400@archive.discoverfrome.co.uk
SUMMARY:THE IMPORTANCE OF NATURE RESERVES
DESCRIPTION:In this time of climate change and the ever-increasing threat from human action\, why are nature reserves still an important tool for us to save the world? Paul Rowland has worked in local nature conservation for 20 years and gives insight on the role protected areas play\, both within and beyond the boundary fences. \n
URL:https://archive.discoverfrome.co.uk/event/the-importance-of-nature-reserves/
LOCATION:Holy Trinity Church\, Trinity Street\, Frome\, BA11 3DE
GEO:51.2331678;-2.3271693
X-APPLE-STRUCTURED-LOCATION;VALUE=URI;X-ADDRESS=Holy Trinity Church Trinity Street Frome BA11 3DE;X-APPLE-RADIUS=500;X-TITLE=Trinity Street:geo:-2.3271693,51.2331678
CATEGORIES:Discover Frome,Frome Festival,Spoken word
ATTACH;FMTTYPE=image/jpeg:https://archive.discoverfrome.co.uk/wp-content/uploads/2024/06/Paul-R-04.22-Hi-Res-01.jpeg
ORGANIZER;CN="Frome%20Festival":MAILTO:office@fromefestival.co.uk
END:VEVENT
END:VCALENDAR