BEGIN:VCALENDAR
VERSION:2.0
PRODID:-//Discover Frome - ECPv4.6.26//NONSGML v1.0//EN
CALSCALE:GREGORIAN
METHOD:PUBLISH
X-WR-CALNAME:Discover Frome
X-ORIGINAL-URL:https://archive.discoverfrome.co.uk
X-WR-CALDESC:Events for Discover Frome
BEGIN:VEVENT
DTSTART;TZID=Europe/London:20240714T110000
DTEND;TZID=Europe/London:20240714T123000
DTSTAMP:20260419T201220
CREATED:20240620T101201Z
LAST-MODIFIED:20240620T101201Z
UID:70602-1720954800-1720960200@archive.discoverfrome.co.uk
SUMMARY:THE LIGHT IN SELWOOD – TOURS OF ST JOHN’S CHURCH
DESCRIPTION:Join us on a tour around St John the Baptist Church\, a Grade II listed building and the final resting place of Thomas Ken\, former Bishop of Bath & Wells\, and many other Frome notables. The tour will start with an introductory talk and will include the opportunity to visit the usually restricted South Porch. \nLight refreshments will be on sale in the church\nDonations welcome \n
URL:https://archive.discoverfrome.co.uk/event/the-light-in-selwood-tours-of-st-johns-church/
LOCATION:St John’s Church\, Church St\, Frome\, BA11 1PL
GEO:51.2301524;-2.3210582
X-APPLE-STRUCTURED-LOCATION;VALUE=URI;X-ADDRESS=St John’s Church Church St Frome BA11 1PL;X-APPLE-RADIUS=500;X-TITLE=Church St:geo:-2.3210582,51.2301524
CATEGORIES:Discover Frome,Frome Festival,History & Heritage,Talk
ATTACH;FMTTYPE=image/jpeg:https://archive.discoverfrome.co.uk/wp-content/uploads/2024/06/st-j.jpg
ORGANIZER;CN="Frome%20Festival":MAILTO:office@fromefestival.co.uk
END:VEVENT
END:VCALENDAR