BEGIN:VCALENDAR
VERSION:2.0
PRODID:-//Discover Frome - ECPv4.6.26//NONSGML v1.0//EN
CALSCALE:GREGORIAN
METHOD:PUBLISH
X-WR-CALNAME:Discover Frome
X-ORIGINAL-URL:https://archive.discoverfrome.co.uk
X-WR-CALDESC:Events for Discover Frome
BEGIN:VEVENT
DTSTART;TZID=Europe/London:20241024T190000
DTEND;TZID=Europe/London:20241024T223000
DTSTAMP:20260421T230702
CREATED:20240814T130601Z
LAST-MODIFIED:20240814T130601Z
UID:71609-1729796400-1729809000@archive.discoverfrome.co.uk
SUMMARY:The New Roses
DESCRIPTION:THE NEW ROSES story began in 2013 in the tranquilsetting of Rheingau\, Germany. With the title track of their debut album Without A Trace\, Timmy Rough and his band colleagues landed on the compilation of the US cult biker TV series “Sons Of Anarchy” and thus also provided the song for the “Sons Of Anarchy” DVD trailer campaign in Germany. Since then\, it ́s been nothing less than a steady climb to the top. The band’s played hundreds of shows in their home country and abroad\, signed a worldwide deal with Napalm Records (Universal)\, and released another 4 albums; all of which enjoyed high chart positions. \nThe 2019 album Nothing But Wild\, with the rock radio hit “Down By The River\,” reached #10 in the German album charts! Musically\, THE NEW ROSES are an explosive force\, taking their cues from idols like Guns N’Roses\, AC/DC\, Kid Rock\, Metallica andThe Black Crowes\, but doing it in a very unique way. This musical concept makes THE NEW ROSES one of the few contemporary German rock bands to play on international soil. Their tours have taken the band to the biggest festivals in Europe such as Hellfest (FR)\, Sweden Rock(SE)\, Hard Rock Hell (UK)\, Masters Of Rock (CZ)\, and Rockfest Barcelona (ES)\, among others\, where they shared the stage with greats like Aerosmith\, Alice Cooper\, The Scorpions\, KISS and many more. \nThe latter repeatedly invited THE NEW ROSES to their KISS Kruise (as the only German band ever!) in Miami\, as well as \,special guests for a whole series of shows on their “End Of The Road” World Tour. Other highlights included concert tours to Russia (2019) and Afghanistan (2017)\, where the band performed at Camp Marmal (Mazar-e-Sharif) for the international forces of the “Resolute Support” mission. Currently\, THE NEW ROSES are on tour in Europe enjoying being on the road with their fans support their current album Sweet Poison. \nPlease note this is an 18+ event\, and the venue is accessed by stairs with no lift. If you have any enquiries please email thetreehouse@cheeseandgrain.com \n
URL:https://archive.discoverfrome.co.uk/event/the-new-roses/
LOCATION:The Tree House\, 35 Berkley Road\, Frome\, Somerset\, BA11 2EH\, United Kingdom
CATEGORIES:Concert,Discover Frome,Live Band,Music,Nightlife
ATTACH;FMTTYPE=image/jpeg:https://archive.discoverfrome.co.uk/wp-content/uploads/2024/08/The-New-Roses-Event-TreeHouse-1536x700-1.jpg
END:VEVENT
END:VCALENDAR