BEGIN:VCALENDAR
VERSION:2.0
PRODID:-//Discover Frome - ECPv4.6.26//NONSGML v1.0//EN
CALSCALE:GREGORIAN
METHOD:PUBLISH
X-WR-CALNAME:Discover Frome
X-ORIGINAL-URL:https://archive.discoverfrome.co.uk
X-WR-CALDESC:Events for Discover Frome
BEGIN:VEVENT
DTSTART;TZID=Europe/London:20250227T190000
DTEND;TZID=Europe/London:20250227T230000
DTSTAMP:20260419T125903
CREATED:20250116T161940Z
LAST-MODIFIED:20250116T161940Z
UID:73831-1740682800-1740697200@archive.discoverfrome.co.uk
SUMMARY:The Ocelots
DESCRIPTION:Night River Presents: The Ocelots \nA magically intimate micro concert featuring The Ocelots\, hosted by DG Solaris. \nThe Ocelots are twin brothers Ashley and Brandon Watson from Wexford\, Ireland. They have built a reputation for intimate concerts\, filled with humour and storytelling. Building on the folk-rock essence of their debut\, the duo are excited to announce the release of their second album\, Everything\, When Said Slowly\, on February 7th 2025. This album unveils a richer\, more expansive sound. The narrative woven throughout the album explores themes of Irish migration\, the perception of time\, love\, and the simple joys of cycling. To support the album\, the band are delighted to take the the road in the UK for a string of dates around its release. \nDon’t miss this incredibly rare opportunity to catch this wonderful talent on the intimate HydeAway stage. There are only 30 seats so book yours today. \n
URL:https://archive.discoverfrome.co.uk/event/the-ocelots/
LOCATION:Hydeaway\, Search for the Eagle\, Frome\, BA11 1DR\, United Kingdom
CATEGORIES:Concert,Discover Frome,Live Band,Music
ATTACH;FMTTYPE=image/jpeg:https://archive.discoverfrome.co.uk/wp-content/uploads/2025/01/the-ocelots.jpg
ORGANIZER;CN="Night%20River":MAILTO:nightriverpresents@gmail.com
END:VEVENT
END:VCALENDAR