BEGIN:VCALENDAR
VERSION:2.0
PRODID:-//Discover Frome - ECPv4.6.26//NONSGML v1.0//EN
CALSCALE:GREGORIAN
METHOD:PUBLISH
X-WR-CALNAME:Discover Frome
X-ORIGINAL-URL:https://archive.discoverfrome.co.uk
X-WR-CALDESC:Events for Discover Frome
BEGIN:VEVENT
DTSTART;TZID=Europe/London:20241220T190000
DTEND;TZID=Europe/London:20241220T223000
DTSTAMP:20260421T123504
CREATED:20241017T115623Z
LAST-MODIFIED:20241017T115623Z
UID:72719-1734721200-1734733800@archive.discoverfrome.co.uk
SUMMARY:the P'Hogues
DESCRIPTION:A SPIRITED TRIBUTE TO THE POGUES – County Somerset – \n‘It’s Brilliant’ – Shane MacGowan \nWhether you need an uplifting and energetic band for the Weekend\, a refined celebratory set for St. Paddy’s Day or a merry rendition of Fairytale for Christmas – THE P’HOGUES are able to entertain for any occasion\, with their authentic covers of all The Pogues’ top hits and catchiest of tunes. \n​The Pogues were a English and Irish Punk Band that played traditional and original compositions\, injected with catchy hooks and head rocking enthusiasm. The band was comprised of the legendary Shane MacGowan on Vocals\, Spider Stacy on the Whistle\, Andrew Rankin on Drums\, Terry Woods on Cittern\, Darryl Hunt on Bass\, Jem Finer on Banjo and James Fearnley on Accordion – but split up in 2014 after the death of their beloved guitarist\, Philip Chevron. \nSongs like Streams of Whiskey\, Fairytale of New York\, Whiskey in the Jar\, Fiesta\, Broad Majestic Shannon\, The Irish Rover and Pair of Brown Eyes (among many\, many more) – are perfect to celebrate life in general and evoke happy memories\, while providing an atmosphere sure to keep the crowd merry\, dancing and drinking. \n​THE P’HOGUES are based in County Somerset\, England and are happy to travel. This group of committed members are easily the premier Pogues tribute act within Somerset and hopefully beyond. We dress like The Pogues\, we sound like The Pogues and we are all fans of The Pogues! Did we mention we play music by The Pogues!!?? \n​Our main goals as a band\, is to both enable people to have a good time\, whilst enjoying the craic ourselves. So don your flat cap\, get ready to move\, stock up on Guiness and Tullamore Dew…then let THE P’HOGUES do the rest! \n​Sláinte! Cheers! \n
URL:https://archive.discoverfrome.co.uk/event/the-phogues-3/
LOCATION:The Tree House\, 35 Berkley Road\, Frome\, Somerset\, BA11 2EH\, United Kingdom
CATEGORIES:Christmas,Discover Frome,Live Band,Music,Nightlife
ATTACH;FMTTYPE=image/jpeg:https://archive.discoverfrome.co.uk/wp-content/uploads/2024/10/369683645_243634238660236_1220116556889016985_n.jpg
END:VEVENT
END:VCALENDAR