BEGIN:VCALENDAR
VERSION:2.0
PRODID:-//Discover Frome - ECPv4.6.26//NONSGML v1.0//EN
CALSCALE:GREGORIAN
METHOD:PUBLISH
X-WR-CALNAME:Discover Frome
X-ORIGINAL-URL:https://archive.discoverfrome.co.uk
X-WR-CALDESC:Events for Discover Frome
BEGIN:VEVENT
DTSTART;TZID=Europe/London:20230516T190000
DTEND;TZID=Europe/London:20230516T190000
DTSTAMP:20260420T062314
CREATED:20230503T190410Z
LAST-MODIFIED:20230503T190410Z
UID:59886-1684263600-1684263600@archive.discoverfrome.co.uk
SUMMARY:The Pretenders
DESCRIPTION:In February 2023\, Chrissie Hynde embarked on a short tour playing working men’s clubs and ale houses. The tour was received with rapturous response and the shows were a very special opportunity to see a legend play new songs and personal favourites in exceptionally intimate settings. \nShe enjoyed it so much\, she’s doing it again this May… with a hint to a forthcoming new album \n“As yet unreleased songs and absolutely no hits whatsoever. Well\, maybe a few.” \nOhio born singer\, songwriter\, and guitarist\, Chrissie Hynde formed The Pretenders in London in 1978\, with Hereford natives\, James Honeyman-Scott on guitar\, Pete Farndon on bass\, and drummer Martin Chambers. \nTheir debut album\, released in January 1980\, was the first UK number one album of the decade and garnered critical acclaim in Europe\, The US\, Australia and beyond. \nThe group’s personnel and dynamic has changed over the years\, initially with the drug related deaths of Honeyman-Scott and Farndon in 1983. Hynde has remained a constant force as the band’s focal point\, maintaining the original Pretenders unique guitar-based sound in the style of Honeyman-Scott. \nShe’s recorded 17 studio albums\, primarily as Pretenders\, and has guested with numerous other artists\, including Frank Sinatra and Moreno Veloso. The Pretenders latest album Hate for Sale\, released July 2020\, has ensured they continue to enjoy international airplay. They regularly tour the world to sold out venues. \n
URL:https://archive.discoverfrome.co.uk/event/the-pretenders/
LOCATION:Cheese and Grain\, Market Yard\, Frome\, BA11 1BE
GEO:51.2318708;-2.3202807
X-APPLE-STRUCTURED-LOCATION;VALUE=URI;X-ADDRESS=Cheese and Grain Market Yard Frome BA11 1BE;X-APPLE-RADIUS=500;X-TITLE=Market Yard:geo:-2.3202807,51.2318708
CATEGORIES:Discover Frome,Music
ATTACH;FMTTYPE=image/jpeg:https://archive.discoverfrome.co.uk/wp-content/uploads/2023/05/The-Pretenders.jpg
END:VEVENT
END:VCALENDAR