BEGIN:VCALENDAR
VERSION:2.0
PRODID:-//Discover Frome - ECPv4.6.26//NONSGML v1.0//EN
CALSCALE:GREGORIAN
METHOD:PUBLISH
X-WR-CALNAME:Discover Frome
X-ORIGINAL-URL:https://archive.discoverfrome.co.uk
X-WR-CALDESC:Events for Discover Frome
BEGIN:VEVENT
DTSTART;TZID=Europe/London:20230518T193000
DTEND;TZID=Europe/London:20230518T193000
DTSTAMP:20260419T141343
CREATED:20230503T114702Z
LAST-MODIFIED:20230503T114702Z
UID:59866-1684438200-1684438200@archive.discoverfrome.co.uk
SUMMARY:The Trafalgar Way
DESCRIPTION:Kathy Brown of ‘The 1805 Club’ presents a talk on The Trafalgar Way. \nThe intriguing story of how Lt. John Lapenotiere of his Majesty’s Schooner Pickle carried Admiral Collingwood’s dispatches about a great victory and the lamented loss of Lord Nelson along 271 miles from Falmouth to London.  Today\, the walk is a protected public walkway to use and enjoy. \nBar opens 7pm for a 7.30pm start. \nVoluntary entrance fee of £3. \nA genuine bottle of ex MOD blend Navy Rum will be raffled on the night – you cannot buy this in the shops or online! \n
URL:https://archive.discoverfrome.co.uk/event/the-trafalgar-way/
LOCATION:Frome Rugby Club\, Gypsy Lane\, Frome\, BA11 2NA
GEO:51.2438814;-2.3049049
X-APPLE-STRUCTURED-LOCATION;VALUE=URI;X-ADDRESS=Frome Rugby Club Gypsy Lane Frome BA11 2NA;X-APPLE-RADIUS=500;X-TITLE=Gypsy Lane:geo:-2.3049049,51.2438814
CATEGORIES:Discover Frome,History & Heritage,Talk
ATTACH;FMTTYPE=image/png:https://archive.discoverfrome.co.uk/wp-content/uploads/2023/05/Colour_crop.png
END:VEVENT
END:VCALENDAR