BEGIN:VCALENDAR
VERSION:2.0
PRODID:-//Discover Frome - ECPv4.6.26//NONSGML v1.0//EN
CALSCALE:GREGORIAN
METHOD:PUBLISH
X-WR-CALNAME:Discover Frome
X-ORIGINAL-URL:https://archive.discoverfrome.co.uk
X-WR-CALDESC:Events for Discover Frome
BEGIN:VEVENT
DTSTART;TZID=Europe/London:20241024T190000
DTEND;TZID=Europe/London:20241024T230000
DTSTAMP:20260422T003300
CREATED:20240814T130349Z
LAST-MODIFIED:20240814T130349Z
UID:71606-1729796400-1729810800@archive.discoverfrome.co.uk
SUMMARY:The Undertones
DESCRIPTION:The Undertones \nLegendary punk-pop tunesmiths The Undertones emerged from Derry\, Northern Ireland in 1974\, and learned their trade by listening to mail order records and reading one of the few copies of NME that made it to Derry. Practicing in their bedrooms eventually led to them recording and releasing “Teenage Kicks” in 1978. \nPress fast forward The Undertones present a glorious set of classic tracks taken from what are considered by many fans and critics to be some of the best punk albums of all time. \nPete Wylie & The Mighty Wah ! \nPete Wylie\, the acclaimed songwriter and Liverpudlian legend\, has been making music under his own name and the many WAH! monikers since 1979. \nPete began his career in the late 1970s in Liverpool\, forming bands with Julian Cope\, Ian McCulloch\, Pete Burns\, Ian Broudie\, future Frankie Goes To Hollywood member Paul Rutherford and soon-to-be Siouxsie And The Banshees drummer Budgie. In 1979\, Wylie adopted the WAH! name going through many incarnations including Wah!\, The Mighty Wah!\, Wah! Heat and Shambeko! Say Wah. Support from John Peel helped Pete/Wah! to gain nationwide attention. Over the years he has had a string of classic singles\, including ‘The Story Of The Blues’\, ‘Come Back’\, ‘Sinful\, ‘Seven Minutes to Midnight’ and later\, the LFC anthem ‘Heart As Big As Liverpool’. He’s also performed with The Farm\, Apollo 440\, appeared with The KLF on their notorious first incarnation of ‘It’s Grim Up North’ and toured with the band Dead Men Walking featuring Glen Matlock of The Sex Pistols. \nA proud Liverpudlian\, Wylie’s defining song ‘Heart As Big As Liverpool’ is especially popular on Merseyside and with Liverpool Football Club supporters and is used in the official Hillsborough tribute video. In 2008\, Pete performed at the opening ceremony of Liverpool’s European City of Culture tenure. \n
URL:https://archive.discoverfrome.co.uk/event/the-undertones-2/
LOCATION:Cheese and Grain\, Market Yard\, Frome\, BA11 1BE
GEO:51.2318708;-2.3202807
X-APPLE-STRUCTURED-LOCATION;VALUE=URI;X-ADDRESS=Cheese and Grain Market Yard Frome BA11 1BE;X-APPLE-RADIUS=500;X-TITLE=Market Yard:geo:-2.3202807,51.2318708
CATEGORIES:Concert,Discover Frome,Live Band,Music,Nightlife
ATTACH;FMTTYPE=image/jpeg:https://archive.discoverfrome.co.uk/wp-content/uploads/2024/08/under-wah-frome-venue-banner-1536x600-1.jpg
END:VEVENT
END:VCALENDAR