BEGIN:VCALENDAR
VERSION:2.0
PRODID:-//Discover Frome - ECPv4.6.26//NONSGML v1.0//EN
CALSCALE:GREGORIAN
METHOD:PUBLISH
X-WR-CALNAME:Discover Frome
X-ORIGINAL-URL:https://archive.discoverfrome.co.uk
X-WR-CALDESC:Events for Discover Frome
BEGIN:VEVENT
DTSTART;TZID=Europe/London:20241026T193000
DTEND;TZID=Europe/London:20241026T193000
DTSTAMP:20260421T123643
CREATED:20240206T145746Z
LAST-MODIFIED:20240206T145746Z
UID:67609-1729971000-1729971000@archive.discoverfrome.co.uk
SUMMARY:The Unravelling Wilburys
DESCRIPTION:\n\nThis top tribute show is more than just a tribute – they are the complete package! With their perfect combination of brilliant musicianship and tongue in cheek humour\, they have had rave reviews throughout the UK. Playing the country-rock songs of the 1980s supergroup ‘The Traveling Wilburys’\, the band also steal some choice numbers from the back catalogue of each of its five iconic members; Roy Orbison\, Tom Petty\, George Harrison\, Bob Dylan and Jeff Lynne. \nBorn out of the ashes of the popular Beatles tribute band Sgt Pepper’s Only Dart Board Band\, the fabulous UNRAVELLING WILBURYS are made up of Sticky Willy\, Walter\, Thumper\, Blind Melon and Honky Tonk Wilbury\, the “real” Wilbury brothers\, who present their own unique slant on what it means to be a tribute band. The show tells the story of the fateful night in Nashville’s Tootsies Bar in 1987\, when their songs were (allegedly) stolen by Messrs Orbison & Co. and the hard road they had to tread to get ‘em back. \nSongs such as ‘End of the Line’\, ‘Handle with Care’\, ‘The Devil’s Been Busy’\, and ‘Tweeter and The Monkey Man’ form the basis of the set\, which also features additional choice cuts including ‘Pretty Woman’ (Orbison)\, ‘Mr Blue Sky’ (Lynne)\, ‘American Girl’ (Petty)\, ‘While My Guitar Gently Weeps’ (Harrison)\, and ‘A Hard Rain’s Gonna Fall’ (Dylan). \nWith music for everyone to enjoy\, this is an evening not to be missed. A fabulous night out for lovers of great music. \n(From Facebook) \n“Captured the style and sounds perfectly and with their own added sense of humour gave the audience an evening to remember”. \n“Thank you all for a sensational performance last night\, it was musicianship of extraordinary talent from you all.” \nwww.unravellingwilburys.co.uk \n\n\n\n\nwww.facebook.com/www.unravellingwilburys.co.uk \n\n\n
URL:https://archive.discoverfrome.co.uk/event/the-unravelling-wilburys-4/
LOCATION:Frome Memorial Theatre\, Christchurch Street West\, Frome\, BA11 1EB
GEO:51.2291809;-2.3240101
X-APPLE-STRUCTURED-LOCATION;VALUE=URI;X-ADDRESS=Frome Memorial Theatre Christchurch Street West Frome BA11 1EB;X-APPLE-RADIUS=500;X-TITLE=Christchurch Street West:geo:-2.3240101,51.2291809
CATEGORIES:Discover Frome,Live Band,Music,Theatre
ATTACH;FMTTYPE=image/jpeg:https://archive.discoverfrome.co.uk/wp-content/uploads/2024/02/2024-10-26-Frome-Memorial.jpg
END:VEVENT
END:VCALENDAR