BEGIN:VCALENDAR
VERSION:2.0
PRODID:-//Discover Frome - ECPv4.6.26//NONSGML v1.0//EN
CALSCALE:GREGORIAN
METHOD:PUBLISH
X-WR-CALNAME:Discover Frome
X-ORIGINAL-URL:https://archive.discoverfrome.co.uk
X-WR-CALDESC:Events for Discover Frome
BEGIN:VEVENT
DTSTART;TZID=Europe/London:20241117T193000
DTEND;TZID=Europe/London:20241117T230000
DTSTAMP:20260421T111416
CREATED:20241017T105543Z
LAST-MODIFIED:20241017T105543Z
UID:72656-1731871800-1731884400@archive.discoverfrome.co.uk
SUMMARY:Think Floyd
DESCRIPTION:Think Floyd’s new show for 2024 features the whole range of classic Pink Floyd from Dark Side of the Moon\, Wish You Were Here\, The Wall\, The Division Bell\, and more. \nPink Floyd’s Nick Mason describes the band as “Brilliant! – They are really good.” In an interview on LBC the legendary drummer commended Think Floyd and rather generously called them “better than we are”. \nThink Floyd prides themselves in faithfully recreating Pink Floyd’s timeless music\, backed by their dedicated team of sound and lighting engineers and an impressive laser light show\, this exciting production will recreate all the atmosphere\, visual magnitude and musical excellence of Pink Floyd live on stage. \nIt’s no wonder Think Floyd is widely regarded as the UK’s number-one Pink Floyd tribute show. \nwww.thinkfloyd.net \n
URL:https://archive.discoverfrome.co.uk/event/think-floyd-4/
LOCATION:Cheese and Grain\, Market Yard\, Frome\, BA11 1BE
GEO:51.2318708;-2.3202807
X-APPLE-STRUCTURED-LOCATION;VALUE=URI;X-ADDRESS=Cheese and Grain Market Yard Frome BA11 1BE;X-APPLE-RADIUS=500;X-TITLE=Market Yard:geo:-2.3202807,51.2318708
CATEGORIES:Discover Frome,Live Band,Music,Nightlife
ATTACH;FMTTYPE=image/jpeg:https://archive.discoverfrome.co.uk/wp-content/uploads/2024/10/Think-Floyd-1920x1080-no-title-1.jpg
END:VEVENT
END:VCALENDAR