BEGIN:VCALENDAR
VERSION:2.0
PRODID:-//Discover Frome - ECPv4.6.26//NONSGML v1.0//EN
CALSCALE:GREGORIAN
METHOD:PUBLISH
X-WR-CALNAME:Discover Frome
X-ORIGINAL-URL:https://archive.discoverfrome.co.uk
X-WR-CALDESC:Events for Discover Frome
BEGIN:VEVENT
DTSTART;TZID=Europe/London:20230610T130000
DTEND;TZID=Europe/London:20230610T143000
DTSTAMP:20260419T225447
CREATED:20230428T092033Z
LAST-MODIFIED:20230502T143729Z
UID:59664-1686402000-1686407400@archive.discoverfrome.co.uk
SUMMARY:Tour of a Low Carbon Home
DESCRIPTION:Terry Pinto director at local Eco architects PAAD will give a limited tour of his own house and a project that he has just finished. \nBoth are examples of whole house Eco refurbishments and he will show practical ways and means that we can all use to do the same with our own houses to help decarbonise them. \nBooking essential as places are limited. \nPart of Great Big Green Week 2023. \n
URL:https://archive.discoverfrome.co.uk/event/tour-of-a-low-carbon-home/2023-06-10/
CATEGORIES:Discover Frome,Great Big Green Week,Sustainability,Talk
ATTACH;FMTTYPE=image/jpeg:https://archive.discoverfrome.co.uk/wp-content/uploads/2023/04/26c-Milk-Street-Talk-tour.jpg
ORGANIZER;CN="Frome%20Town%20Council":MAILTO:info@frometowncouncil.gov.uk
END:VEVENT
END:VCALENDAR