BEGIN:VCALENDAR
VERSION:2.0
PRODID:-//Discover Frome - ECPv4.6.26//NONSGML v1.0//EN
CALSCALE:GREGORIAN
METHOD:PUBLISH
X-WR-CALNAME:Discover Frome
X-ORIGINAL-URL:https://archive.discoverfrome.co.uk
X-WR-CALDESC:Events for Discover Frome
BEGIN:VEVENT
DTSTART;TZID=Europe/London:20240713T193000
DTEND;TZID=Europe/London:20240713T220000
DTSTAMP:20260419T153031
CREATED:20240617T145801Z
LAST-MODIFIED:20240620T094030Z
UID:70515-1720899000-1720908000@archive.discoverfrome.co.uk
SUMMARY:Trevor Moss and Hannah-Lou - plus special guest
DESCRIPTION:Formerly of Indigo Moss\, songwriting duo Trevor Moss & Hannah-Lou have released five studio albums\, been signed to Loose Music\, Big Life and Heavenly Records\, toured with the likes of Tori Amos\, Jools Holland and Damon Albarn\, played main stages at Glastonbury and Green Man and worked with producers including Ethan Johns and Dan Carey. \nThe Tin Church legendary refreshments are included in the ticket price. Doors open 7pm. \n
URL:https://archive.discoverfrome.co.uk/event/trevor-moss-and-hannah-lou-plus-special-guest/
LOCATION:Tin Church Brokerswood
CATEGORIES:Concert,Discover Frome,Frome Festival,Live Band,Music
ATTACH;FMTTYPE=image/png:https://archive.discoverfrome.co.uk/wp-content/uploads/2024/06/trevor-moss.png
ORGANIZER;CN="Frome%20Festival":MAILTO:office@fromefestival.co.uk
END:VEVENT
END:VCALENDAR