BEGIN:VCALENDAR
VERSION:2.0
PRODID:-//Discover Frome - ECPv4.6.26//NONSGML v1.0//EN
CALSCALE:GREGORIAN
METHOD:PUBLISH
X-WR-CALNAME:Discover Frome
X-ORIGINAL-URL:https://archive.discoverfrome.co.uk
X-WR-CALDESC:Events for Discover Frome
BEGIN:VEVENT
DTSTART;TZID=Europe/London:20240606T131500
DTEND;TZID=Europe/London:20240606T143000
DTSTAMP:20260419T141749
CREATED:20240515T120230Z
LAST-MODIFIED:20240515T120230Z
UID:69416-1717679700-1717684200@archive.discoverfrome.co.uk
SUMMARY:Trio Paradis Cafe Concert: Flower Gardens at Christ Church
DESCRIPTION:Trio Paradis play a Café Concert on the first Thursday of each month (Feb-Dec) at 1.15pm at Christ Church: informal feel-good music events with a pop-up café open from c12.45pm where you can meet friends and make new ones over tea/coffee and home-made cakes and listen to live music. It’s c£3.50 for a drink and a cake. \nJune’s programme is inspired by flowers and gardens\, with plenty of roses (from Schubert Heidenröslein to Fauré Roses d’Isphahan and Strauss’s Roses from the South…)\, meadow flowers by Danish composer Rud Langgaard\, and violets from Croatian pianist-composer Dora Pejacevic and English songwriter Muriel Herbert. Lili Boulanger’s lovely piece D’un Jardin clair also makes an appearance. \nConcerts last c45mins and entrance is by donation. There’s no need to book\, just turn up – maybe bring a cushion for the pew! \n
URL:https://archive.discoverfrome.co.uk/event/trio-paradis-cafe-concert-flower-gardens-at-christ-church/
LOCATION:Christ Church\, Christchurch Street West\, Frome\, BA11 1EH
GEO:51.2292735;-2.3282901
X-APPLE-STRUCTURED-LOCATION;VALUE=URI;X-ADDRESS=Christ Church Christchurch Street West Frome BA11 1EH;X-APPLE-RADIUS=500;X-TITLE=Christchurch Street West:geo:-2.3282901,51.2292735
CATEGORIES:Concert,Discover Frome,social
ATTACH;FMTTYPE=image/webp:https://archive.discoverfrome.co.uk/wp-content/uploads/2024/05/Trio.webp
ORGANIZER;CN="Trio%20Paradis":MAILTO:trioparadis@icloud.com
END:VEVENT
END:VCALENDAR