BEGIN:VCALENDAR
VERSION:2.0
PRODID:-//Discover Frome - ECPv4.6.26//NONSGML v1.0//EN
CALSCALE:GREGORIAN
METHOD:PUBLISH
X-WR-CALNAME:Discover Frome
X-ORIGINAL-URL:https://archive.discoverfrome.co.uk
X-WR-CALDESC:Events for Discover Frome
BEGIN:VEVENT
DTSTART;TZID=Europe/London:20240929T100000
DTEND;TZID=Europe/London:20240929T130000
DTSTAMP:20260420T063304
CREATED:20240906T123348Z
LAST-MODIFIED:20240906T123348Z
UID:71973-1727604000-1727614800@archive.discoverfrome.co.uk
SUMMARY:Visible Mending with Skye of Slow Stitch Club
DESCRIPTION:Slow Stitch Club teaches the art of visible mending using simple and traditional sewing techniques to repair clothing in a creative\, visible and intentional way. This workshop is suitable for beginners and sewing enthusiasts alike. Bring along a denim or cotton garment to mend. \n
URL:https://archive.discoverfrome.co.uk/event/visible-mending-with-skye-of-slow-stitch-club/
LOCATION:Millie Moon\, Catherine Hill\, Frome
CATEGORIES:Clothing & Textiles,Discover Frome,Sustainability,Workshop
ATTACH;FMTTYPE=image/png:https://archive.discoverfrome.co.uk/wp-content/uploads/2024/09/visible-mending.png
ORGANIZER;CN="Slow%20Stitch%20Club":MAILTO:skye@slowstitch.club
END:VEVENT
END:VCALENDAR