BEGIN:VCALENDAR
VERSION:2.0
PRODID:-//Discover Frome - ECPv4.6.26//NONSGML v1.0//EN
CALSCALE:GREGORIAN
METHOD:PUBLISH
X-WR-CALNAME:Discover Frome
X-ORIGINAL-URL:https://archive.discoverfrome.co.uk
X-WR-CALDESC:Events for Discover Frome
BEGIN:VEVENT
DTSTART;TZID=Europe/London:20230610T110000
DTEND;TZID=Europe/London:20230610T130000
DTSTAMP:20260419T175053
CREATED:20230427T192312Z
LAST-MODIFIED:20230427T192312Z
UID:59639-1686394800-1686402000@archive.discoverfrome.co.uk
SUMMARY:Welcome to the Seed Library Garden
DESCRIPTION:Since launching in July 2022 the Frome Seed Library has distributed over 1\,300 free packets of seeds\, and started a monthly under-5s gardening club\, ‘Sprouts’\, all kindly hosted within Frome Library. \nThis year they’ve set their sights on creating a new container garden\, located at the entrance of the library\, using plants expertly grown by the Sprouts and local gardeners. \nCome along to hear more about the project and how you can get involved\, make a plastic-free pot with Frome Families for the Future and see the first of the planters unveiled. \nAll welcome. \nPart of Great Big Green Week 2023. \n
URL:https://archive.discoverfrome.co.uk/event/welcome-to-the-seed-library-garden/
LOCATION:Outside Frome Library\, Justice Lane\, Frome\, Somerset\, BA11 1BE\, United Kingdom
GEO:51.2327716;-2.3203906
X-APPLE-STRUCTURED-LOCATION;VALUE=URI;X-ADDRESS=Outside Frome Library Justice Lane Frome Somerset BA11 1BE United Kingdom;X-APPLE-RADIUS=500;X-TITLE=Justice Lane:geo:-2.3203906,51.2327716
CATEGORIES:Children,Discover Frome,Environment,Family,Great Big Green Week,Nature
ATTACH;FMTTYPE=image/jpeg:https://archive.discoverfrome.co.uk/wp-content/uploads/2023/04/Frome-seed-library-logo.jpg
ORGANIZER;CN="Frome%20Seed%20Library":MAILTO:fromeseedlibrary@gmail.com
END:VEVENT
END:VCALENDAR