BEGIN:VCALENDAR
VERSION:2.0
PRODID:-//Discover Frome - ECPv4.6.26//NONSGML v1.0//EN
CALSCALE:GREGORIAN
METHOD:PUBLISH
X-WR-CALNAME:Discover Frome
X-ORIGINAL-URL:https://archive.discoverfrome.co.uk
X-WR-CALDESC:Events for Discover Frome
BEGIN:VEVENT
DTSTART;TZID=Europe/London:20231209T100000
DTEND;TZID=Europe/London:20231209T160000
DTSTAMP:20260419T193255
CREATED:20231201T123739Z
LAST-MODIFIED:20231201T123739Z
UID:65778-1702116000-1702137600@archive.discoverfrome.co.uk
SUMMARY:West Woodlands Countdown to Christmas!
DESCRIPTION:The Frome and District Agricultural Society Ltd are bringing a brand-new event to the West Woodlands Showground\, Frome\, on Saturday 9th December 2023; West Woodlands – Countdown to Christmas! \nThe event will be FREE ENTRY and feature; Christmas Shopping\, Kids Crafts\, Local Bands\, Food and Drink\, Christmas Pet Photography\, Donkeys and Santa’s Grotto. \nWell behaved dogs on leads welcome. \nA new\, local\, Christmas event\, held in the Pavilion at the West Woodlands Showground! \n
URL:https://archive.discoverfrome.co.uk/event/west-woodlands-countdown-to-christmas/
LOCATION:West Woodlands Showground\, Bunns Lane\, Near Frome\, Somerset\,\, Frome\, BA11 5ES
GEO:51.1800893;-2.326666
X-APPLE-STRUCTURED-LOCATION;VALUE=URI;X-ADDRESS=West Woodlands Showground Bunns Lane Near Frome Somerset Frome BA11 5ES;X-APPLE-RADIUS=500;X-TITLE=Bunns Lane\, Near Frome\, Somerset\,:geo:-2.326666,51.1800893
CATEGORIES:Christmas,crafts,Discover Frome,Family,Food & Drink,Live Band,Market,Music
ATTACH;FMTTYPE=image/jpeg:https://archive.discoverfrome.co.uk/wp-content/uploads/2023/12/Socials-Advert.jpeg
ORGANIZER;CN="Frome%20%26%20District%20Agricultural%20Society%20Ltd":MAILTO:admin@fromecheeseshow.co.uk
END:VEVENT
END:VCALENDAR