BEGIN:VCALENDAR
VERSION:2.0
PRODID:-//Discover Frome - ECPv4.6.26//NONSGML v1.0//EN
CALSCALE:GREGORIAN
METHOD:PUBLISH
X-WR-CALNAME:Discover Frome
X-ORIGINAL-URL:https://archive.discoverfrome.co.uk
X-WR-CALDESC:Events for Discover Frome
BEGIN:VEVENT
DTSTART;TZID=Europe/London:20230610T100000
DTEND;TZID=Europe/London:20230610T160000
DTSTAMP:20260420T002558
CREATED:20230427T191144Z
LAST-MODIFIED:20230427T191736Z
UID:59626-1686391200-1686412800@archive.discoverfrome.co.uk
SUMMARY:Whose Hands - The Journey of Jewellery
DESCRIPTION:Working towards a circular economy: Emma Aitchison and Josie Mitchell jewellery strive for a more ethical jewellery industry. Utilising recycled metals\, recyclable and biodegradable packaging and ethical studio practices. Sustainability is at the forefront of their brands. \nEmma & Josie will be collaborating to present ‘Whose Hands’\, an exhibition on the journey of your jewellery inviting you to discover the process involved in making jewellery from source to shop. \nExploring how a raw alloy transforms into a piece of jewellery\, whose hands does it pass\, what chemicals are used and what energy is consumed. \nWe hope it encourages people to think twice about what you buy and learn how we can create change for a better industry. \nCome down and explore the issues and effects of the jewellery trade on planet and people\, learn what positive steps are being taken in the industry and what you can do to help create change. \nAlongside the exhibition\, to encourage upcycling\, Emma and Josie will be offering 10% discount for all custom projects which include the upcycling of the customer’s metal. \nPlease pop into the studio shop at Iron Gates to discuss your project! \nOpen: Tuesday\, Thursday\, Friday and Saturday 10am-4pm \nYou can find out more about Emma and Josie at: \nwww.emmaaitchison.com @emmaaitchisonjewellery \nwww.joisemitchelljewellery.co.uk @joisemitchell.jewellery \nPart of Great Big Green Week 2023. \n
URL:https://archive.discoverfrome.co.uk/event/whose-hands-the-journey-of-jewellery/2023-06-10/
LOCATION:The Iron Gates\, 9 King Street\, Frome\, BA11 1BH\, United Kingdom
CATEGORIES:crafts,Discover Frome,Environment,Great Big Green Week
ATTACH;FMTTYPE=image/jpeg:https://archive.discoverfrome.co.uk/wp-content/uploads/2023/04/2022_08_09_EmmaAitchison_32.jpg
END:VEVENT
END:VCALENDAR