BEGIN:VCALENDAR
VERSION:2.0
PRODID:-//Discover Frome - ECPv4.6.26//NONSGML v1.0//EN
CALSCALE:GREGORIAN
METHOD:PUBLISH
X-WR-CALNAME:Discover Frome
X-ORIGINAL-URL:https://archive.discoverfrome.co.uk
X-WR-CALDESC:Events for Discover Frome
BEGIN:VEVENT
DTSTART;TZID=Europe/London:20241024T080000
DTEND;TZID=Europe/London:20241024T153000
DTSTAMP:20260422T021229
CREATED:20240320T100356Z
LAST-MODIFIED:20240320T101034Z
UID:68245-1729756800-1729783800@archive.discoverfrome.co.uk
SUMMARY:Wild Medicine Cabinet: Winter Medicine Making
DESCRIPTION:Learn to craft your own wild medicines and reconnect with the abundance of Mother Nature! \n\n\nAs the seasons shift\, nature provides us with an abundance of wild berries\, mushrooms\, herbs and trees that are perfectly suited to support and nourish us throughout the winter months. Woodlands and hedgerows become a living basket of nutrient-dense ingredients that can aid our immune system\, respiratory system and general wellbeing\, helping us and our loved ones to stay nourished and well. \nIn this workshop\, guided by Tasha Stevens-Vallecillo\, you will walk the land and learn how to safely identify\, harvest\, store\, and process seasonal wild ingredients. \nYou’ll create a mini apothecary of potent folk medicines to take home – a winter gift to yourself and those you love. Learn to make: \n\nmedicinal berry tonics (both elderberry and rosehip)\nour much-loved medicinal mushroom chai syrup\na potent spruce salve using beeswax from our sacred bee garden – a precious gift.\n\nLearning these traditional skills is a meaningful way to reconnect with the land and the abundant cycles of nature. As we protect what we love\, getting out into our local wild spaces fosters a deeper relationship between the land and ourselves. \nThrough foraging and medicine-making we learn more about our environment\, meet like-minded people\, and nurture a resilience that serves both people and the planet. \nThis event includes all materials\, warm drinks\, and a 42 Acres lunch from our Soil-To-Gut menu. You will eat food grown on the land you’re walking. \nDisclaimer: \nPlease speak with your licensed medical health professional if you have any health conditions or are pregnant. \nAfter this Experience\, You’re Welcome to: \n\nExplore 173 acres of regenerative estate and nature reserve\nVisit our pioneering agriwilding projects\nSwim in our 7-acre lake (at your own risk)\nTake our row boat/ SUP boards/ canoes\n\nStay Over:‍ \nAs with all our workshops\, upon booking you’ll receive a 20% discount code for use if you would like to stay overnight (the day before or night of your experience). A little gift from 42 Acres to help support workshop participants to extend & enrich their stay on the land. Your voucher is redeemable at: www.42acres.com/our-rooms \nPlease note: \nWe cannot allow dogs on this experience \nImages by @cwphotographyuk \n\n\n\n\n\n\n\n\n\n\n\n\n\n\n\n\n
URL:https://archive.discoverfrome.co.uk/event/wild-medicine-cabinet-winter-medicine-making/
LOCATION:42 Acres\, Witham Friary\, Frome\, BA11 5HL
GEO:51.1697463;-2.3651842
X-APPLE-STRUCTURED-LOCATION;VALUE=URI;X-ADDRESS=42 Acres Witham Friary Frome BA11 5HL;X-APPLE-RADIUS=500;X-TITLE=Witham Friary:geo:-2.3651842,51.1697463
CATEGORIES:crafts,Food & Drink,Health & Wellbeing,Nature,Workshop
ATTACH;FMTTYPE=image/jpeg:https://archive.discoverfrome.co.uk/wp-content/uploads/2024/03/415179513_910453590754018_3280566235124548028_n-Copy.jpg
ORGANIZER;CN="42%20Acres":MAILTO:bookings@42acres.com
END:VEVENT
END:VCALENDAR