BEGIN:VCALENDAR
VERSION:2.0
PRODID:-//Discover Frome - ECPv4.6.26//NONSGML v1.0//EN
CALSCALE:GREGORIAN
METHOD:PUBLISH
X-WR-CALNAME:Discover Frome
X-ORIGINAL-URL:https://archive.discoverfrome.co.uk
X-WR-CALDESC:Events for Discover Frome
BEGIN:VEVENT
DTSTART;TZID=Europe/London:20250222T133000
DTEND;TZID=Europe/London:20250222T153000
DTSTAMP:20260419T135605
CREATED:20250124T105223Z
LAST-MODIFIED:20250124T105223Z
UID:74000-1740231000-1740238200@archive.discoverfrome.co.uk
SUMMARY:Window Wanderland Workshop - Open to All!
DESCRIPTION:Join us to learn how to make a window for this year’s Frome Window Wanderland at The Cheese & Grain in Meeting Room 1 (upstairs – lift access available). \nWhatever your idea\, organisers will be on hand at the workshop to help you get started. Materials and tools will be available to use for free\, and techniques and approaches will be demonstrated at the beginning of the session. After that you will have space to get going with your creation. The window can be anything you want\, as long as it’s family friendly. It doesn’t have to be an incredible work of art\, it can be as simple as fairy lights\, a candle or even just hanging your favourite dress in your window – you can be as ambitious or as simple as you want. \nParticipants are encouraged to bring the measurements of the window(s) they plan to decorate and any images they want to work from. Other than that just bring yourselves. \n
URL:https://archive.discoverfrome.co.uk/event/window-wanderland-workshop-open-to-all-3/
LOCATION:Cheese and Grain\, Market Yard\, Frome\, BA11 1BE
GEO:51.2318708;-2.3202807
X-APPLE-STRUCTURED-LOCATION;VALUE=URI;X-ADDRESS=Cheese and Grain Market Yard Frome BA11 1BE;X-APPLE-RADIUS=500;X-TITLE=Market Yard:geo:-2.3202807,51.2318708
CATEGORIES:Arts,Children,Clothing & Textiles,Community,crafts,Discover Frome,Family,Workshop
ATTACH;FMTTYPE=image/jpeg:https://archive.discoverfrome.co.uk/wp-content/uploads/2020/09/Window-Wanderland.jpg
END:VEVENT
END:VCALENDAR