BEGIN:VCALENDAR
VERSION:2.0
PRODID:-//Discover Frome - ECPv4.6.26//NONSGML v1.0//EN
CALSCALE:GREGORIAN
METHOD:PUBLISH
X-WR-CALNAME:Discover Frome
X-ORIGINAL-URL:https://archive.discoverfrome.co.uk
X-WR-CALDESC:Events for Discover Frome
BEGIN:VEVENT
DTSTART;TZID=Europe/London:20241025T190000
DTEND;TZID=Europe/London:20241025T210000
DTSTAMP:20260421T201339
CREATED:20240720T130257Z
LAST-MODIFIED:20240814T113541Z
UID:71201-1729882800-1729890000@archive.discoverfrome.co.uk
SUMMARY:Wines of Catalonia Tasting
DESCRIPTION:Join Jamie\, as he guides you through some of the best Catalan wines.  You will have the chance to sample white\, rose and Reds\, and not forgetting the Cava! A cheese and charcuterie board accompanies the wine tasting. \n
URL:https://archive.discoverfrome.co.uk/event/wines-of-catalonia-tasting/
LOCATION:Givino\, R18 Marshall Way\, Frome\, BA11 2FE\, United Kingdom
CATEGORIES:Tastings
ATTACH;FMTTYPE=image/avif:https://archive.discoverfrome.co.uk/wp-content/uploads/2024/07/catalonia-flag_909708-10700.avif
ORGANIZER;CN="Givino":MAILTO:hello@givino.co.uk
END:VEVENT
END:VCALENDAR