BEGIN:VCALENDAR
VERSION:2.0
PRODID:-//Discover Frome - ECPv4.6.26//NONSGML v1.0//EN
CALSCALE:GREGORIAN
METHOD:PUBLISH
X-WR-CALNAME:Discover Frome
X-ORIGINAL-URL:https://archive.discoverfrome.co.uk
X-WR-CALDESC:Events for Discover Frome
BEGIN:VEVENT
DTSTART;TZID=Europe/London:20251121T184500
DTEND;TZID=Europe/London:20251121T210000
DTSTAMP:20260420T211336
CREATED:20250605T103233Z
LAST-MODIFIED:20250605T103234Z
UID:80887-1763750700-1763758800@archive.discoverfrome.co.uk
SUMMARY:Wines of Rioja Tasting
DESCRIPTION:Discover the bold and expressive flavors of Spain’s most celebrated wine region at our Wines of Rioja Tasting event! Join us for an evening dedicated to the iconic wines of Rioja\, where tradition meets innovation amidst the beautiful landscapes of northern Spain. \nOur expert sommelier will guide you through a tasting of some of the finest Rioja wines\, including rich\, barrel-aged reds\, fresh whites\, and everything in between. Learn about the unique terroir\, grape varieties\, and meticulous aging processes that give Rioja wines their distinctive depth and complexity. \nA cheese and charcuterie board accompanies the wine tasting. \nWhether you’re a wine enthusiast or new to the world of Rioja\, this event offers a chance to deepen your appreciation for these renowned wines\, enjoy perfectly paired bites\, and share the experience with fellow wine lovers in a relaxed and inviting atmosphere. \n
URL:https://archive.discoverfrome.co.uk/event/wines-of-rioja-tasting-2/
LOCATION:Givino\, R18 Marshall Way\, Frome\, BA11 2FE\, United Kingdom
ATTACH;FMTTYPE=image/webp:https://archive.discoverfrome.co.uk/wp-content/uploads/2025/06/snug1.webp
ORGANIZER;CN="Givino":MAILTO:hello@givino.co.uk
END:VEVENT
END:VCALENDAR