BEGIN:VCALENDAR
VERSION:2.0
PRODID:-//Discover Frome - ECPv4.6.26//NONSGML v1.0//EN
CALSCALE:GREGORIAN
METHOD:PUBLISH
X-WR-CALNAME:Discover Frome
X-ORIGINAL-URL:https://archive.discoverfrome.co.uk
X-WR-CALDESC:Events for Discover Frome
BEGIN:VEVENT
DTSTART;TZID=Europe/London:20250913T193000
DTEND;TZID=Europe/London:20250913T193000
DTSTAMP:20260420T201111
CREATED:20250206T110017Z
LAST-MODIFIED:20250206T110017Z
UID:74543-1757791800-1757791800@archive.discoverfrome.co.uk
SUMMARY:Yesterday Once More - The Carpenters Songbook
DESCRIPTION:Karen and Richard Carpenter touched the world with their beautiful music and became the best-selling artists of the 1970’s with more than 100 million records sold since. Their timeless tunes live on today with the signature rich layered vocals and incredible arrangements. Now\, in 2025\, you can relive the story of The Carpenters in the ultimate stage production celebration. \n“Toni does Karen Carpenter proud and her band are amazing\, I highly recommend Toni Lee  \n5 stars from me.” – Val. H  ⭐️⭐️⭐️⭐️⭐️ \nFor more than two decades\, Toni Lee has been delivering an incredibly authentic homage to Karen Carpenter in top venues throughout the UK and beyond. Yesterday Once More – The Carpenters Songbook is the most recent production featuring a full band steeped in Carpenters musical nuance and ready to bring an unforgettable night of heartfelt music. \nToni said: “I’ve always been around music\, both my parents were in the business\, so it was natural that I would get into it. I’d always loved The Carpenters since I was very\, very little and I thought she had such an amazing voice. There are sometimes people in tears – not because they are upset but because the songs mean so much to them. It’s good tears.” \nAll the hits are here including: Superstar\, Rainy Days and Mondays\, (They Long to Be) Close to You and of course\, Yesterday Once More. \nWhether you are looking to cruise down memory lane for a feelgood night of nostalgia\, or you never had the opportunity to see them live in the 70s\, Yesterday Once More – The Carpenters Songbook is guaranteed to be an unforgettable night of stories and music for Carpenters fans of all ages. \n
URL:https://archive.discoverfrome.co.uk/event/yesterday-once-more-the-carpenters-songbook/
LOCATION:Frome Memorial Theatre\, Christchurch Street West\, Frome\, BA11 1EB
GEO:51.2291809;-2.3240101
X-APPLE-STRUCTURED-LOCATION;VALUE=URI;X-ADDRESS=Frome Memorial Theatre Christchurch Street West Frome BA11 1EB;X-APPLE-RADIUS=500;X-TITLE=Christchurch Street West:geo:-2.3240101,51.2291809
CATEGORIES:Discover Frome,Live Band,Music,Theatre
ATTACH;FMTTYPE=image/jpeg:https://archive.discoverfrome.co.uk/wp-content/uploads/2025/02/YOM-fb-640.jpg
END:VEVENT
END:VCALENDAR