BEGIN:VCALENDAR
VERSION:2.0
PRODID:-//Discover Frome - ECPv4.6.26//NONSGML v1.0//EN
CALSCALE:GREGORIAN
METHOD:PUBLISH
X-WR-CALNAME:Discover Frome
X-ORIGINAL-URL:https://archive.discoverfrome.co.uk
X-WR-CALDESC:Events for Discover Frome
BEGIN:VEVENT
DTSTART;TZID=Europe/London:20240131T191500
DTEND;TZID=Europe/London:20240131T201500
DTSTAMP:20260419T182443
CREATED:20240104T105118Z
LAST-MODIFIED:20240104T105118Z
UID:66267-1706728500-1706732100@archive.discoverfrome.co.uk
SUMMARY:Yin Yoga in Winter\, the element of Water
DESCRIPTION:This Yin yoga practise explores the season of Winter\, the phase of Water. Water is the most Yin of all the elements. Water will find its lowest point and come to rest there. The movement of water is inwards\, notice the space we create\, when we are attentive to it. \n
URL:https://archive.discoverfrome.co.uk/event/yin-yoga-in-winter-the-element-of-water/
LOCATION:The Works Studio\, Badcox\, Frome\, BA11 3BG\, United Kingdom
CATEGORIES:Discover Frome,Health & Wellbeing
ATTACH;FMTTYPE=image/jpeg:https://archive.discoverfrome.co.uk/wp-content/uploads/2024/01/yoga.jpg
END:VEVENT
END:VCALENDAR